BEGIN:VCALENDAR
VERSION:2.0
PRODID:icalendar-ruby
CALSCALE:GREGORIAN
BEGIN:VEVENT
DTSTAMP:20260423T134909Z
UID:182774f9-cf44-4f16-950c-aec616bf98ca
DTSTART;VALUE=DATE:20221208
DESCRIPTION:Property ID# 547683\, Locatoin: Harcourts Office\, 490 Te Moana
  Road\, Waikanae\, Time: 12:00PM
SUMMARY:Auction for 
END:VEVENT
END:VCALENDAR
