BEGIN:VCALENDAR
VERSION:2.0
PRODID:icalendar-ruby
CALSCALE:GREGORIAN
BEGIN:VEVENT
DTSTAMP:20260425T110512Z
UID:40725269-22fb-4654-9d89-e2c51a37fd33
DTSTART;VALUE=DATE:20211209
DESCRIPTION:Property ID# 522152\, Locatoin: Harcourts Office\, 490 Te Moana
  Road\, Waikanae\, Time: 4:00PM
SUMMARY:Auction for 
END:VEVENT
END:VCALENDAR
