BEGIN:VCALENDAR
VERSION:2.0
PRODID:icalendar-ruby
CALSCALE:GREGORIAN
BEGIN:VEVENT
DTSTAMP:20260423T140835Z
UID:84c93813-d751-4c35-b679-e65521d565f0
DTSTART;VALUE=DATE:20211118
DESCRIPTION:Property ID# 520493\, Locatoin: Harcourts Auction Rooms\, Coast
 lands Parade\, Paraparaumu.\, Time: 12:00PM
SUMMARY:Auction for 
END:VEVENT
END:VCALENDAR
