BEGIN:VCALENDAR
VERSION:2.0
PRODID:icalendar-ruby
CALSCALE:GREGORIAN
BEGIN:VEVENT
DTSTAMP:20260422T132219Z
UID:b118614a-ae79-4546-8ec5-8dd181b7bc12
DTSTART;VALUE=DATE:20201222
DESCRIPTION:Property ID# 497947\, Time: 1:00PM
SUMMARY:Auction for 
END:VEVENT
END:VCALENDAR
