BEGIN:VCALENDAR
VERSION:2.0
PRODID:icalendar-ruby
CALSCALE:GREGORIAN
BEGIN:VEVENT
DTSTAMP:20260422T133031Z
UID:7370ecab-3097-4768-b386-e348727a6f0f
DTSTART;VALUE=DATE:20200408
DESCRIPTION:Property ID# 476787\, Locatoin: Crn Mahara Plc & Main Road\, Wa
 ikanae\, Time: 4:00PM
SUMMARY:Auction for 
END:VEVENT
END:VCALENDAR
