BEGIN:VCALENDAR
VERSION:2.0
PRODID:icalendar-ruby
CALSCALE:GREGORIAN
BEGIN:VEVENT
DTSTAMP:20260422T132602Z
UID:aeccc9b3-6e96-4529-a1e2-2f62b418c38b
DTSTART;VALUE=DATE:20200311
DESCRIPTION:Property ID# 474392\, Locatoin: Professionals Waikanae\, Crn Ma
 hara Plc & SH1\, Time: 3:00PM
SUMMARY:Auction for 
END:VEVENT
END:VCALENDAR
