BEGIN:VCALENDAR
VERSION:2.0
PRODID:icalendar-ruby
CALSCALE:GREGORIAN
BEGIN:VEVENT
DTSTAMP:20260422T101923Z
UID:a0c64f0d-3ed8-4566-8d70-28a8e04cf613
DTSTART;VALUE=DATE:20200123
DESCRIPTION:Property ID# 469842\, Locatoin: Porfessionals Otaki\, 207 Main 
 HIghway\, Otaki\, Time: 3:00PM
SUMMARY:Auction for 
END:VEVENT
END:VCALENDAR
