BEGIN:VCALENDAR
VERSION:2.0
PRODID:icalendar-ruby
CALSCALE:GREGORIAN
BEGIN:VEVENT
DTSTAMP:20260422T132432Z
UID:972f8d83-385d-401b-9052-42e6585796e6
DTSTART;VALUE=DATE:20191031
DESCRIPTION:Property ID# 464570\, Time: 2:00PM
SUMMARY:Auction for 
END:VEVENT
END:VCALENDAR
